BEGIN:VCALENDAR
VERSION:2.0
PRODID:-//Infometrics - ECPv4.6.6//NONSGML v1.0//EN
CALSCALE:GREGORIAN
METHOD:PUBLISH
X-WR-CALNAME:Infometrics
X-ORIGINAL-URL:http://www.infometrics.co.nz
X-WR-CALDESC:Events for Infometrics
BEGIN:VEVENT
DTSTART;VALUE=DATE:20180202
DTEND;VALUE=DATE:20180203
DTSTAMP:20180124T131549
CREATED:20180110T003715Z
LAST-MODIFIED:20180114T205521Z
UID:7070-1517529600-1517615999@www.infometrics.co.nz
SUMMARY:Building & Property Forecasts - February 2018
DESCRIPTION:Infometrics building forecasts have long been the first port of call for decision-makers and analysts with an interest in the outlook for the construction sector.  Our suite of web-based products give you a greater depth of information and a fresh look that brings the data to life.\n\n \n\n\n	Find out more\n\nMember Login\n	\n 
URL:http://www.infometrics.co.nz/events/building-property-forecasts-february-2018/
CATEGORIES:Scheduled releases
END:VEVENT
BEGIN:VEVENT
DTSTART;VALUE=DATE:20180202
DTEND;VALUE=DATE:20180203
DTSTAMP:20180124T131549
CREATED:20180110T005034Z
LAST-MODIFIED:20180110T005850Z
UID:7078-1517529600-1517615999@www.infometrics.co.nz
SUMMARY:Transport Forecasts - February 2018
DESCRIPTION:Infometrics transport forecasts have long been the first port of call for decision-makers and analysts with an interest in the outlook for the transport sector.  Our economists help businesses and public organisations understand how key trends in economic\, financial\, and industry-specific indicators are shaping the risks and opportunities afforded to organisations operating in the broader transport sector.\n\n \n\n\n	Transport Forecasts\n\nMember Login\n	\n 
URL:http://www.infometrics.co.nz/events/transport-forecasts-february-2018/
CATEGORIES:Scheduled releases
ORGANIZER;CN="Mieke%20Welvaert":MAILTO:miekew@infometrics.co.nz
END:VEVENT
BEGIN:VEVENT
DTSTART;VALUE=DATE:20180219
DTEND;VALUE=DATE:20180220
DTSTAMP:20180124T131549
CREATED:20180110T013428Z
LAST-MODIFIED:20180110T013428Z
UID:7108-1518998400-1519084799@www.infometrics.co.nz
SUMMARY:Presentation of Infometrics Forecasts - February 2018
DESCRIPTION:Gareth Kiernan will be travelling around the country in the last weeks of February 2018 to present his views on the Infometrics building and transport forecasts to clients and other interested parties. Please contact us for more information or to book a visit/seminar at your office or venue of your choosing.\n\n \n\n\n	More information\n\nGareth Kiernan\n	\n 
URL:http://www.infometrics.co.nz/events/presentation-infometrics-forecasts-february-2018/
CATEGORIES:Seminars/presentations
END:VEVENT
BEGIN:VEVENT
DTSTART;VALUE=DATE:20180221
DTEND;VALUE=DATE:20180222
DTSTAMP:20180124T131549
CREATED:20180109T233033Z
LAST-MODIFIED:20180110T012714Z
UID:7064-1519171200-1519257599@www.infometrics.co.nz
SUMMARY:Regional Economic Profile 2018
DESCRIPTION:\n	Infometrics’ online Regional Economic Profile provides an in-depth description of your region or district’s economic structure and performance over the past year and previous years.  It takes the presentation of regional economic data to a new level in New Zealand\, combining a comprehensive\, robust set of economic data with a dynamic and interactive web-based interface.\n \n\n \n\n\n	Regional Economic Profile\n\nMember Login\n	\n \n
URL:http://www.infometrics.co.nz/events/regional-economic-profile-2018/
CATEGORIES:Scheduled releases
ORGANIZER;CN="Andrew%20Whiteford":MAILTO:andreww@infometrics.co.nz
END:VEVENT
BEGIN:VEVENT
DTSTART;VALUE=DATE:20180221
DTEND;VALUE=DATE:20180222
DTSTAMP:20180124T131549
CREATED:20180110T002806Z
LAST-MODIFIED:20180110T012629Z
UID:7068-1519171200-1519257599@www.infometrics.co.nz
SUMMARY:Sector Profile 2018
DESCRIPTION:Our Sector Profiles provide you with a wealth of latest information on your industry or sector via our interactive and easy to use web-platform. The profiles are perfect for industry associations\, local authorities\, large businesses and tertiary education organisations.\nYou and your staff can focus on analysis instead of collecting data from several places\, the majority of which are likely to measure different things over different time periods.\n\n \n\n	Sector Profiles\n\nMember Login\n	\n 
URL:http://www.infometrics.co.nz/events/sector-profile-2018/
CATEGORIES:Scheduled releases
END:VEVENT
BEGIN:VEVENT
DTSTART;VALUE=DATE:20180228
DTEND;VALUE=DATE:20180301
DTSTAMP:20180124T131549
CREATED:20180110T011759Z
LAST-MODIFIED:20180110T011759Z
UID:7097-1519776000-1519862399@www.infometrics.co.nz
SUMMARY:Quarterly Economic Monitor - Reference quarter December 2017
DESCRIPTION:Your economic development strategy is likely to contain key performance indicators against which you will measure the future performance of your region’s economy. The QEM will help you monitor the progress of your economy against these indicators.  The ranking infographic included in the web framework shows which indicators your region ranks highly in and which it ranks poorly in.\nDecision makers in local government require accurate and easily understood economic information about your district or region to help you plan for regional economic growth.  The Quarterly Economic Monitor enables you to keep your finger on the economic pulse of your local area.\n\n \n\n\n	Quarterly Economic Monitor\n\nMember Login\n	\n 
URL:http://www.infometrics.co.nz/events/quarterly-economic-monitor-reference-quarter-december-2017/
CATEGORIES:Scheduled releases
ORGANIZER;CN="Benje%20Patterson":MAILTO:benjep@infometrics.co.nz
END:VEVENT
BEGIN:VEVENT
DTSTART;VALUE=DATE:20180413
DTEND;VALUE=DATE:20180414
DTSTAMP:20180124T131549
CREATED:20180110T003907Z
LAST-MODIFIED:20180110T010949Z
UID:7072-1523577600-1523663999@www.infometrics.co.nz
SUMMARY:Building & Property Forecasts - April 2018
DESCRIPTION:Infometrics building forecasts have long been the first port of call for decision-makers and analysts with an interest in the outlook for the construction sector.  Our suite of web-based products give you a greater depth of information and a fresh look that brings the data to life.\n\n \n\n\n	Find out more\n\nMember Login\n	\n 
URL:http://www.infometrics.co.nz/events/building-property-forecasts-april-2018/
CATEGORIES:Scheduled releases
END:VEVENT
BEGIN:VEVENT
DTSTART;VALUE=DATE:20180413
DTEND;VALUE=DATE:20180414
DTSTAMP:20180124T131549
CREATED:20180110T010104Z
LAST-MODIFIED:20180110T010104Z
UID:7084-1523577600-1523663999@www.infometrics.co.nz
SUMMARY:Transport Forecasts - April 2018
DESCRIPTION:Infometrics transport forecasts have long been the first port of call for decision-makers and analysts with an interest in the outlook for the transport sector.  Our economists help businesses and public organisations understand how key trends in economic\, financial\, and industry-specific indicators are shaping the risks and opportunities afforded to organisations operating in the broader transport sector.\n\n \n\n\n	Transport Forecasts\n\nMember Login\n	\n 
URL:http://www.infometrics.co.nz/events/transport-forecasts-april-2018/
CATEGORIES:Scheduled releases
ORGANIZER;CN="Mieke%20Welvaert":MAILTO:miekew@infometrics.co.nz
END:VEVENT
BEGIN:VEVENT
DTSTART;VALUE=DATE:20180423
DTEND;VALUE=DATE:20180424
DTSTAMP:20180124T131549
CREATED:20180110T013640Z
LAST-MODIFIED:20180110T013640Z
UID:7109-1524441600-1524527999@www.infometrics.co.nz
SUMMARY:Presentation of Infometrics Forecasts - April 2018
DESCRIPTION:Gareth Kiernan will be travelling around the country in the last weeks of April/first week of May 2018 to present his views on the Infometrics building and transport forecasts to clients and other interested parties. Please contact us for more information or to book a visit/seminar at your office or venue of your choosing.\n\n \n\n\n	More information\n\nGareth Kiernan\n	\n 
URL:http://www.infometrics.co.nz/events/presentation-infometrics-forecasts-april-2018/
CATEGORIES:Seminars/presentations
END:VEVENT
BEGIN:VEVENT
DTSTART;VALUE=DATE:20180524
DTEND;VALUE=DATE:20180525
DTSTAMP:20180124T131549
CREATED:20180110T012010Z
LAST-MODIFIED:20180110T012010Z
UID:7100-1527120000-1527206399@www.infometrics.co.nz
SUMMARY:Quarterly Economic Monitor - Reference quarter March 2018
DESCRIPTION:Your economic development strategy is likely to contain key performance indicators against which you will measure the future performance of your region’s economy. The QEM will help you monitor the progress of your economy against these indicators.  The ranking infographic included in the web framework shows which indicators your region ranks highly in and which it ranks poorly in.\nDecision makers in local government require accurate and easily understood economic information about your district or region to help you plan for regional economic growth.  The Quarterly Economic Monitor enables you to keep your finger on the economic pulse of your local area.\n\n \n\n\n	Quarterly Economic Monitor\n\nMember Login\n	\n 
URL:http://www.infometrics.co.nz/events/quarterly-economic-monitor-reference-quarter-march-2018/
CATEGORIES:Scheduled releases
ORGANIZER;CN="Benje%20Patterson":MAILTO:benjep@infometrics.co.nz
END:VEVENT
BEGIN:VEVENT
DTSTART;VALUE=DATE:20180720
DTEND;VALUE=DATE:20180721
DTSTAMP:20180124T131549
CREATED:20180110T004046Z
LAST-MODIFIED:20180110T010915Z
UID:7074-1532044800-1532131199@www.infometrics.co.nz
SUMMARY:Building & Property Forecasts - July 2018
DESCRIPTION:Infometrics building forecasts have long been the first port of call for decision-makers and analysts with an interest in the outlook for the construction sector.  Our suite of web-based products give you a greater depth of information and a fresh look that brings the data to life.\n\n \n\n\n	Find out more\n\nMember Login\n	\n 
URL:http://www.infometrics.co.nz/events/building-property-forecasts-june-2018/
CATEGORIES:Scheduled releases
END:VEVENT
BEGIN:VEVENT
DTSTART;VALUE=DATE:20180720
DTEND;VALUE=DATE:20180721
DTSTAMP:20180124T131549
CREATED:20180110T010430Z
LAST-MODIFIED:20180110T010430Z
UID:7086-1532044800-1532131199@www.infometrics.co.nz
SUMMARY:Transport Forecasts - July 2018
DESCRIPTION:Infometrics transport forecasts have long been the first port of call for decision-makers and analysts with an interest in the outlook for the transport sector.  Our economists help businesses and public organisations understand how key trends in economic\, financial\, and industry-specific indicators are shaping the risks and opportunities afforded to organisations operating in the broader transport sector.\n\n \n\n\n	Transport Forecasts\n\nMember Login\n	\n 
URL:http://www.infometrics.co.nz/events/transport-forecasts-july-2018/
CATEGORIES:Scheduled releases
ORGANIZER;CN="Mieke%20Welvaert":MAILTO:miekew@infometrics.co.nz
END:VEVENT
BEGIN:VEVENT
DTSTART;VALUE=DATE:20180806
DTEND;VALUE=DATE:20180807
DTSTAMP:20180124T131549
CREATED:20180110T020504Z
LAST-MODIFIED:20180110T020948Z
UID:7112-1533513600-1533599999@www.infometrics.co.nz
SUMMARY:Presentation of Infometrics Forecasts - July 2018
DESCRIPTION:Gareth Kiernan will be travelling around the country in mid August 2018 to present his views on the Infometrics building and transport forecasts to clients and other interested parties. Please contact us for more information or to book a visit/seminar at your office or venue of your choosing.\n\n \n\n\n	More information\n\nGareth Kiernan\n	\n 
URL:http://www.infometrics.co.nz/events/presentation-infometrics-forecasts-july-2018/
CATEGORIES:Seminars/presentations
END:VEVENT
BEGIN:VEVENT
DTSTART;VALUE=DATE:20180823
DTEND;VALUE=DATE:20180824
DTSTAMP:20180124T131549
CREATED:20180110T012220Z
LAST-MODIFIED:20180110T012220Z
UID:7102-1534982400-1535068799@www.infometrics.co.nz
SUMMARY:Quarterly Economic Monitor - Reference quarter June 2018
DESCRIPTION:Your economic development strategy is likely to contain key performance indicators against which you will measure the future performance of your region’s economy. The QEM will help you monitor the progress of your economy against these indicators.  The ranking infographic included in the web framework shows which indicators your region ranks highly in and which it ranks poorly in.\nDecision makers in local government require accurate and easily understood economic information about your district or region to help you plan for regional economic growth.  The Quarterly Economic Monitor enables you to keep your finger on the economic pulse of your local area.\n\n \n\n\n	Quarterly Economic Monitor\n\nMember Login\n	\n 
URL:http://www.infometrics.co.nz/events/quarterly-economic-monitor-reference-quarter-june-2018/
CATEGORIES:Scheduled releases
ORGANIZER;CN="Benje%20Patterson":MAILTO:benjep@infometrics.co.nz
END:VEVENT
BEGIN:VEVENT
DTSTART;VALUE=DATE:20181012
DTEND;VALUE=DATE:20181013
DTSTAMP:20180124T131549
CREATED:20180110T004551Z
LAST-MODIFIED:20180110T010804Z
UID:7076-1539302400-1539388799@www.infometrics.co.nz
SUMMARY:Building & Property Forecasts - October 2018
DESCRIPTION:Infometrics building forecasts have long been the first port of call for decision-makers and analysts with an interest in the outlook for the construction sector.  Our suite of web-based products give you a greater depth of information and a fresh look that brings the data to life.\n \n\n	Find out more\nMember Login\n	\n 
URL:http://www.infometrics.co.nz/events/building-property-forecasts-october-2018/
CATEGORIES:Scheduled releases
END:VEVENT
BEGIN:VEVENT
DTSTART;VALUE=DATE:20181012
DTEND;VALUE=DATE:20181013
DTSTAMP:20180124T131549
CREATED:20180110T010656Z
LAST-MODIFIED:20180110T010656Z
UID:7089-1539302400-1539388799@www.infometrics.co.nz
SUMMARY:Transport Forecasts - October 2018
DESCRIPTION:Infometrics transport forecasts have long been the first port of call for decision-makers and analysts with an interest in the outlook for the transport sector.  Our economists help businesses and public organisations understand how key trends in economic\, financial\, and industry-specific indicators are shaping the risks and opportunities afforded to organisations operating in the broader transport sector.\n\n \n\n\n	Transport Forecasts\n\nMember Login\n	\n 
URL:http://www.infometrics.co.nz/events/transport-forecasts-october-2018/
CATEGORIES:Scheduled releases
ORGANIZER;CN="Mieke%20Welvaert":MAILTO:miekew@infometrics.co.nz
END:VEVENT
BEGIN:VEVENT
DTSTART;VALUE=DATE:20181101
DTEND;VALUE=DATE:20181102
DTSTAMP:20180124T131549
CREATED:20180110T020750Z
LAST-MODIFIED:20180110T020750Z
UID:7114-1541030400-1541116799@www.infometrics.co.nz
SUMMARY:Presentation of Infometrics Forecasts - November 2018
DESCRIPTION:Gareth Kiernan will be travelling around the country at the beginning of November 2018 to present his views on the Infometrics building and transport forecasts to clients and other interested parties. Please contact us for more information or to book a visit/seminar at your office or venue of your choosing.\n\n \n\n\n	More information\n\nGareth Kiernan\n	\n 
URL:http://www.infometrics.co.nz/events/presentation-infometrics-forecasts-november-2018/
CATEGORIES:Seminars/presentations
END:VEVENT
BEGIN:VEVENT
DTSTART;VALUE=DATE:20181122
DTEND;VALUE=DATE:20181123
DTSTAMP:20180124T131549
CREATED:20180110T012350Z
LAST-MODIFIED:20180110T012450Z
UID:7104-1542844800-1542931199@www.infometrics.co.nz
SUMMARY:Quarterly Economic Monitor - Reference quarter September 2018
DESCRIPTION:Your economic development strategy is likely to contain key performance indicators against which you will measure the future performance of your region’s economy. The QEM will help you monitor the progress of your economy against these indicators.  The ranking infographic included in the web framework shows which indicators your region ranks highly in and which it ranks poorly in.\nDecision makers in local government require accurate and easily understood economic information about your district or region to help you plan for regional economic growth.  The Quarterly Economic Monitor enables you to keep your finger on the economic pulse of your local area.\n\n \n\n\n	Quarterly Economic Monitor\n\nMember Login\n	\n 
URL:http://www.infometrics.co.nz/events/quarterly-economic-monitor-reference-quarter-september-2018/
CATEGORIES:Scheduled releases
ORGANIZER;CN="Benje%20Patterson":MAILTO:benjep@infometrics.co.nz
END:VEVENT
END:VCALENDAR